BEGIN:VCALENDAR
VERSION:2.0
PRODID:-//Metrail Construction Ltd. - ECPv6.15.17.1//NONSGML v1.0//EN
CALSCALE:GREGORIAN
METHOD:PUBLISH
X-WR-CALNAME:Metrail Construction Ltd.
X-ORIGINAL-URL:https://metrail.co.uk
X-WR-CALDESC:Events for Metrail Construction Ltd.
REFRESH-INTERVAL;VALUE=DURATION:PT1H
X-Robots-Tag:noindex
X-PUBLISHED-TTL:PT1H
BEGIN:VTIMEZONE
TZID:UTC
BEGIN:STANDARD
TZOFFSETFROM:+0000
TZOFFSETTO:+0000
TZNAME:UTC
DTSTART:20210101T000000
END:STANDARD
END:VTIMEZONE
BEGIN:VEVENT
DTSTART;VALUE=DATE:20221102
DTEND;VALUE=DATE:20221104
DTSTAMP:20260424T143228
CREATED:20221012T163706Z
LAST-MODIFIED:20221012T163706Z
UID:1143-1667347200-1667519999@metrail.co.uk
SUMMARY:Highways UK
DESCRIPTION:Meet Metrail at booth D12 at Highways UK. \nDon’t miss out on the Highways UK event\, bringing together the people responsible for planning\, developing\, managing\, and maintaining our nation’s roads networks.
URL:https://metrail.co.uk/event/highways-uk/
LOCATION:The NEC Birmingham
END:VEVENT
BEGIN:VEVENT
DTSTART;VALUE=DATE:20221019
DTEND;VALUE=DATE:20221020
DTSTAMP:20260424T143228
CREATED:20221012T164611Z
LAST-MODIFIED:20221012T164724Z
UID:1147-1666137600-1666223999@metrail.co.uk
SUMMARY:Highways Awards 2022
DESCRIPTION:With our project “M180 Road Rehabilitation Scheme“\, Metrail is a proud finalist for this years Highways Awards for the Maintenance Efficiency Award. Join us at the award ceremony at Park Plaza Westminster Bridge in London!
URL:https://metrail.co.uk/event/highways-awards-2022/
LOCATION:Park Plaza Westminster Bridge London
END:VEVENT
END:VCALENDAR